{"text_format":"1","workbook":"xlsx","n_sheets":2,"sheets":["CT-941","Form"],"not_rendered":{"charts":0,"images":0,"macros":1,"external_links":0,"defined_names":2,"comments":0,"pivot_tables":0},"unopened":[],"bounds":{"document_bytes":16777216,"sheet_cells":100000,"rows_first":2000,"rows_last":500,"rows_between":2000,"halvings":0,"cell_chars":16384,"cell_head_chars":4096},"cells_cut":0,"cells_raw":0,"read":"whole","date_system":"1900"}

{"sheet":"CT-941","index":0,"n_rows":4,"n_cols":40,"rows_kept":4,"cut":false,"hidden":false,"merged":[[0,1,0,2],[1,1,1,2]]}
["CT-941"," File Creator \nfor CSV Upload\nfor myconneCT",null,{"$f":"COUNT(H5:H53002)&\"  record(s)\"","v":"0  record(s)"},{"$f":"\"$ \"& SUM(T5:T53002) &\" CT wages\"","v":"$ 0 CT wages"},null,{"$f":"\"$ \"&SUM(U5:U53002)&\"  Withheld\"","v":"$ 0  Withheld"},null,null,null,null,null,null,null,"\\\\Drs-ps102\\PerDRS\\Per_DRS\\PerOper\\OperARReg\\OperARRegCPPW\\HareJ\\CTW2Acme Ind.csv",null,null,null,null,null,null,null,"N","Y",null,"H:\\CT941CTAX TEST-DOUG.xlsx"]
[" Enter your company name or a unique identifer here ►►","Business Name"]
["1","2","3","4","5","6","7","8","9","10","11","12","13","14","15","16","17","18","19","20","21","22","23","24","25","26","27","28","29","30","31","32","33","34","35","36","37","38","39","40"]
["Taxpayer Name","Address Line 1","Address Line 2","City","State","Zip","Period End (mm/dd/yyyy)","CT REG Number","Business Closed?","Last business date","Gross Wages","Gross CT Wages","CT Tax withheld","Credit from Prior period","Payments this period","total Deposits","net tax due","Penalty","Interest","Amount applied to next period","Amount refunded","Total Amount due","Return by Paid Preparer?","PaidPreparer Name","PaidPreparer Firm Name","PaidPreparer\n FEIN","Is PaidPreparer address a foreign address (not in the United States) (Y/N)","PaidPreparer AddressLine1","PaidPreparer AddressLine2","PaidPreparer AddressLine3","PaidPreparer City","PaidPreparer State","PaidPreparer Zip","PaidPreparer Phone","Remit Amount","Payment Date ","Bank Acct Type\n1= checking\n2= savings   ","Bank Routing Number ","Bank Acct Number","Direct Deposit (Y/N)"]

{"sheet":"Form","index":1,"n_rows":41,"n_cols":2,"rows_kept":41,"cut":false,"hidden":false,"merged":[]}
[]
[{"$f":"+'CT-941'!A4","v":"Taxpayer Name"},{"$f":"+'CT-941'!A5","v":0}]
[{"$f":"+'CT-941'!B4","v":"Address Line 1"},{"$f":"+'CT-941'!B5","v":0}]
[{"$f":"+'CT-941'!C4","v":"Address Line 2"},{"$f":"+'CT-941'!C5","v":0}]
[{"$f":"+'CT-941'!D4","v":"City"},{"$f":"+'CT-941'!D5","v":0}]
[{"$f":"+'CT-941'!E4","v":"State"},{"$f":"+'CT-941'!E5","v":0}]
[{"$f":"+'CT-941'!F4","v":"Zip"},{"$f":"+'CT-941'!F5","v":0}]
[{"$f":"+'CT-941'!G4","v":"Period End (mm/dd/yyyy)"},{"$f":"+'CT-941'!G5","v":0}]
[{"$f":"+'CT-941'!H4","v":"CT REG Number"},{"$f":"+'CT-941'!H5","v":0}]
[{"$f":"+'CT-941'!I4","v":"Business Closed?"},{"$f":"+'CT-941'!I5","v":0}]
[{"$f":"+'CT-941'!J4","v":"Last business date"},{"$f":"+'CT-941'!J5","v":0}]
[{"$f":"+'CT-941'!K4","v":"Gross Wages"},{"$f":"+'CT-941'!K5","v":0}]
[{"$f":"+'CT-941'!L4","v":"Gross CT Wages"},{"$f":"+'CT-941'!L5","v":0}]
[{"$f":"+'CT-941'!M4","v":"CT Tax withheld"},{"$f":"+'CT-941'!M5","v":0}]
[{"$f":"+'CT-941'!N4","v":"Credit from Prior period"},{"$f":"+'CT-941'!N5","v":0}]
[{"$f":"+'CT-941'!O4","v":"Payments this period"},{"$f":"+'CT-941'!O5","v":0}]
[{"$f":"+'CT-941'!P4","v":"total Deposits"},{"$f":"+'CT-941'!P5","v":0}]
[{"$f":"+'CT-941'!Q4","v":"net tax due"},{"$f":"+'CT-941'!Q5","v":0}]
[{"$f":"+'CT-941'!R4","v":"Penalty"},{"$f":"+'CT-941'!R5","v":0}]
[{"$f":"+'CT-941'!S4","v":"Interest"},{"$f":"+'CT-941'!S5","v":0}]
[{"$f":"+'CT-941'!T4","v":"Amount applied to next period"},{"$f":"+'CT-941'!T5","v":0}]
[{"$f":"+'CT-941'!U4","v":"Amount refunded"},{"$f":"+'CT-941'!U5","v":0}]
[{"$f":"+'CT-941'!V4","v":"Total Amount due"},{"$f":"+'CT-941'!V5","v":0}]
[{"$f":"+'CT-941'!W4","v":"Return by Paid Preparer?"},{"$f":"+'CT-941'!W5","v":0}]
[{"$f":"+'CT-941'!X4","v":"PaidPreparer Name"},{"$f":"+'CT-941'!X5","v":0}]
[{"$f":"+'CT-941'!Y4","v":"PaidPreparer Firm Name"},{"$f":"+'CT-941'!Y5","v":0}]
[{"$f":"+'CT-941'!Z4","v":"PaidPreparer\n FEIN"},{"$f":"+'CT-941'!Z5","v":0}]
[{"$f":"+'CT-941'!AA4","v":"Is PaidPreparer address a foreign address (not in the United States) (Y/N)"},{"$f":"+'CT-941'!AA5","v":0}]
[{"$f":"+'CT-941'!AB4","v":"PaidPreparer AddressLine1"},{"$f":"+'CT-941'!AB5","v":0}]
[{"$f":"+'CT-941'!AC4","v":"PaidPreparer AddressLine2"},{"$f":"+'CT-941'!AC5","v":0}]
[{"$f":"+'CT-941'!AD4","v":"PaidPreparer AddressLine3"},{"$f":"+'CT-941'!AD5","v":0}]
[{"$f":"+'CT-941'!AE4","v":"PaidPreparer City"},{"$f":"+'CT-941'!AE5","v":0}]
[{"$f":"+'CT-941'!AF4","v":"PaidPreparer State"},{"$f":"+'CT-941'!AF5","v":0}]
[{"$f":"+'CT-941'!AG4","v":"PaidPreparer Zip"},{"$f":"+'CT-941'!AG5","v":0}]
[{"$f":"+'CT-941'!AH4","v":"PaidPreparer Phone"},{"$f":"+'CT-941'!AH5","v":0}]
[{"$f":"+'CT-941'!AI4","v":"Remit Amount"},{"$f":"+'CT-941'!AI5","v":0}]
[{"$f":"+'CT-941'!AJ4","v":"Payment Date "},{"$f":"+'CT-941'!AJ5","v":"00:00:00"}]
[{"$f":"+'CT-941'!AK4","v":"Bank Acct Type\n1= checking\n2= savings   "},{"$f":"+'CT-941'!AK5","v":0}]
[{"$f":"+'CT-941'!AL4","v":"Bank Routing Number "},{"$f":"+'CT-941'!AL5","v":0}]
[{"$f":"+'CT-941'!AM4","v":"Bank Acct Number"},{"$f":"+'CT-941'!AM5","v":0}]
[{"$f":"+'CT-941'!AN4","v":"Direct Deposit (Y/N)"},{"$f":"+'CT-941'!AN5","v":0}]